BEGIN:VCALENDAR
METHOD:PUBLISH
PRODID:-//6586@www.region-coburg.tv//NONSGML iCalcreator 2.4.3//
VERSION:2.0
BEGIN:VEVENT
UID:6586-20260508170000-20260508230000@www.region-coburg.tv
DTSTAMP:20260423T214709Z
CONTACT:Eintritt frei!
CREATED:20260423T142300Z
DESCRIPTION:Lange Nacht der Wissenschaften CoburgDie Hochschule Coburg öff
 net ihre Türen für die ganze Region: Von 17 bis 23 Uhr zeigt die Lange N
 acht der Wissenschaften\, wie Forschung verständlich\, offen und zugängl
 ich wird – zum Zuschauen\, Mitmachen und Nachfragen.Drei Standorte: Camp
 us Friedrich Streib\, Campus Design und Schlachthofareal. Ein Bus-Shuttle 
 verbindet die Standorte im 10-/15-Minuten-Takt. Parkmöglichkeiten gibt es
  auf dem Campus Friedrich Streib im Parkhaus mit mehr als 500 Stellplätze
 n sowie auf dem nahegelegenen Parkplatz in der Sonneberger Straße. Der Ei
 ntritt zur Langen Nacht der Wissenschaften ist frei\, eine Anmeldung ist n
 icht erforderlich.Mitmach-Stationen\, Live-Experimente\, Vorträge und off
 ene LaboreMit rund 100 Programmpunkten präsentiert die Hochschule Coburg 
 die Vielfalt ihrer Themen auf anschauliche Weise für alle Menschen in der
  Region. Es gibt überraschende Experimente zum Selberausprobieren\, Rat u
 nd konkrete Praxistipps zu Themen wie Geldanlage\, Heizen oder Glücklichs
 ein und dem gesunden Umgang mit Social Media\, außerdem Hintergründe zu 
 zentralen gesellschaftlichen Fragen wie Klimawandel\, Städtebau\, Energie
 wende\, Arbeitsmarkt und Zuwanderung – und jede Menge Action\, wenn die 
 Besucherinnen und Besucher zum Beispiel beim Human Table Kicker als lebend
 ige Kickerfiguren dem Ball hinterher jagen. - Tickets: Eintritt frei!
DTEND:20260508T230000
DTSTART:20260508T170000
LAST-MODIFIED:20260423T142300Z
LOCATION:Coburg\, Hochschule
SUMMARY:Lange Nacht der Wissenschaften Coburg
X-IMAGE:http://www.region-coburg.tv/images/medium/wissenschaften-f2a980b5.j
 pg
END:VEVENT
END:VCALENDAR
