BEGIN:VCALENDAR
METHOD:PUBLISH
PRODID:-//6585@www.region-coburg.tv//NONSGML iCalcreator 2.4.3//
VERSION:2.0
BEGIN:VEVENT
UID:6585-20260509100000-20260509220000@www.region-coburg.tv
DTSTAMP:20260423T214137Z
CREATED:20260423T142000Z
DESCRIPTION:Classic Weekend Coburg 2026OldtimertreffenOldtimertreffen für 
 Fahrzeuge bis 1996!Samstag:Ausfahrt des Porsche 356 Club Oberfranken und d
 es ASC (Allgemeine-Schnauferl Club)Messestände und Teilemarkt für den Ol
 dtimerbereich (Anmeldung unter info@coburg-classics.de)Rahmenprogramm für
  Groß und KleinSchwerpunkt - Classic TuningSonntag:Oldtimertreffen -> Fah
 rzeuge bis Baujahr 1949 auf dem Marktplatz Coburg (um Voranmeldung wird ge
 beten unter info@coburg-classics.deFahrzeuge ab Baujahr 1950 auf dem Schlo
 ssplatz Coburg (ohne Anmeldung).Speisen und Getränke vor Ort!
DTEND:20260509T220000
DTSTART:20260509T100000
LAST-MODIFIED:20260423T142000Z
LOCATION:Coburg\, Schlossplatz
SUMMARY:Classic Weekend Coburg - Oldtimertreffen
X-IMAGE:http://www.region-coburg.tv/images/medium/classic-593d0722.png
END:VEVENT
END:VCALENDAR
