BEGIN:VCALENDAR
METHOD:PUBLISH
PRODID:-//6584@www.region-coburg.tv//NONSGML iCalcreator 2.4.3//
VERSION:2.0
BEGIN:VEVENT
UID:6584-20260430160000-20260430200000@www.region-coburg.tv
DTSTAMP:20260423T160620Z
CREATED:20260423T141800Z
DESCRIPTION:Feierabendmarkt der Genussregion Coburger LandDie Genussregion 
 Coburger Land und die Alte Schäferei Ahorn laden am Donnerstag\, den 30.0
 4.2026 von 16:00 bis 20:00 Uhr zum entspannten Feierabendmarkt ein.Freut e
 uch auf einen genussvollen Abend in gemütlicher Atmosphäre – drinnen w
 ie draußen. Perfekt\, um den Arbeitstag ausklingen zu lassen\, Freunde zu
  treffen und regionale Vielfalt zu entdecken.Es erwarten euch leckere Spei
 sen & Getränke von regionalen Anbietern\, entspannte Live-Musik mit der A
 horner Kultband Radio Influenza und Spiel & Spaß für Kids mit dem Coburg
 er Kinder- und Jugendtheater.Kommt vorbei\, bringt gute Laune mit und geni
 eßt den Feierabend mit uns!Mehr Infos unter www.genussregion-coburg.de/fe
 ierabendmarktDer Feierabendmarkt wird im Rahmen des Regionalmanagements Co
 burg durch das Bayerische Staatsministerium für Wirtschaft\, Landesentwic
 klung und Energie gefördert.
DTEND:20260430T200000
DTSTART:20260430T160000
LAST-MODIFIED:20260423T141800Z
LOCATION:Ahorn\, Alte Schäferei
SUMMARY:Feierabendmarkt der Genussregion
X-IMAGE:http://www.region-coburg.tv/images/medium/feierabend-991275a7.jpg
END:VEVENT
END:VCALENDAR
