BEGIN:VCALENDAR
METHOD:PUBLISH
PRODID:-//6583@www.region-coburg.tv//NONSGML iCalcreator 2.4.3//
VERSION:2.0
BEGIN:VEVENT
UID:6583-20260502100000-20260502170000@www.region-coburg.tv
DTSTAMP:20260423T160004Z
CONTACT:GebÃ¼hr 5\,00â‚¬
CREATED:20260423T135100Z
DESCRIPTION:Mit dem Rad die Natur erlebenEntlang der Itz und Lauter am Wass
 er des Lebens:Diese gefÃ¼hrte Radtour lÃ¤dt dazu ein\, die abwechslungsrei
 che Landschaft rund um Coburg bewusst zu erleben. Vom Marktplatz Coburg au
 s fÃ¼hrt der Weg zunÃ¤chst Ã¼ber Unterlauter auf gut ausgebauten Radwegen 
 nach Neukirchen. Von dort geht es bergan zum Grenzwanderweg\, weiter auf d
 er HÃ¶he nach Almerswind und anschlieÃŸend entlang der Itz bis zum Froschg
 rundsee. Die landschaftlich reizvolle Strecke folgt anschlieÃŸend dem Itzt
 al abwÃ¤rts Ã¼ber Oberwohlsbach und die Rosenau zurÃ¼ck nach Coburg. Unter
 wegs bleibt Zeit\, die Natur wahrzunehmen\, ins GesprÃ¤ch zu kommen und ne
 ue EindrÃ¼cke zu sammeln.TourenfÃ¼hrung: Hildegard Jacobi und Dieter StÃ¶Ã
 ŸleinStrecke: ca. 35 km (ca. 320 HÃ¶henmeter auf und ab)Schwierigkeit: lei
 cht bis mittel â€“ auch fÃ¼r Bio-Bikes gut geeignetMittagseinkehr am Frosc
 hgrundseeEine Radtour fÃ¼r alle\, die Bewegung\, Naturerlebnis und Gemeins
 chaft miteinander verbinden mÃ¶chten. - Tickets: GebÃ¼hr 5\,00â‚¬
DTEND:20260502T170000
DTSTART:20260502T100000
LAST-MODIFIED:20260423T135100Z
LOCATION:Coburg\, Marktplatz
SUMMARY:Mit dem Rad die Natur erleben
X-IMAGE:http://www.region-coburg.tv/images/medium/rad-bd7a421d.jpg
END:VEVENT
END:VCALENDAR
