BEGIN:VCALENDAR
METHOD:PUBLISH
PRODID:-//6578@www.region-coburg.tv//NONSGML iCalcreator 2.4.3//
VERSION:2.0
BEGIN:VEVENT
UID:6578-20260509160000-20260509000000@www.region-coburg.tv
DTSTAMP:20260424T022937Z
CONTACT:VVK 12€ | AK 18€
CREATED:20260423T130100Z
DESCRIPTION:O'Zapft is Am Gleis – Coburg feiert!Holt die Lederhosn und Di
 rndl raus - wir bringen die Festzelt-Stimmung an den Güterbahnhof!Am 09. 
 Mai 2026 heißt es in Coburg: „O’Zapft is Am Gleis!“Packt eure Freun
 de ein und feiert mit uns einen Abend voller Tradition\, Party und guter L
 aune!PROGRAMMEinlass & Warm-up: Ab 16:00 Uhr starten wir entspannt bei kü
 hlem Bier und bester Atmosphäre. Für den kleinen und großen Hunger steh
 en Food Trucks im Außenbereich bereit.Live-Abriss: Ab ca. 19:00 / 20:00 U
 hr übernehmen die FRANKEN BENGEL! Bekannt von der Cannstatter Wasen und d
 em Oktoberfest\, garantieren sie Partystimmung pur.Trachten-Contest: Wer t
 rägt das feschste Dirndl? Wer hat die strammsten Wadl in der Lederhosn? M
 acht mit bei unserem Trachten-Contest!TRANK & TRADITIONWas wäre ein Fest 
 ohne die passende Verpflegung? Wir habenfür jeden Geschmack das Richtige:
 Frisch gezapftes Festbier von Wachtelbräu aus GossenbergUnsere exklusive 
 Weinbar für GenießerKlassische Schnäpse (Obstler\, Willi & Co.)Große A
 uswahl an alkoholfreien GetränkenFood Trucks im AußenbereichTICKETS & VO
 RVERKAUFDer frühe Vogel feiert günstiger! Schnappt euch die Tickets rech
 tzeitig:Vorverkauf (VVK) 12 €Abendkasse 18 € Nur nach VerfügbarkeitVo
 rverkaufsstelle: Die Tickets bekommt ihr ab 10. April an der Aral Tankstel
 le\, Bamber Str. (bei Brose) in Coburg.Schnell sein lohnt sich!Zusagen\, F
 reunde einladen und Vorfreude teilen! Wir sehen uns am Gleis. - Tickets: V
 VK 12€ | AK 18€
DTEND:20260509T000000
DTSTART:20260509T160000
LAST-MODIFIED:20260423T130100Z
LOCATION:Coburg\, Pakethalle
SUMMARY:O'Zapft is Am Gleis
X-IMAGE:http://www.region-coburg.tv/images/medium/gleis-b1a42228.jpg
END:VEVENT
END:VCALENDAR
