BEGIN:VCALENDAR
METHOD:PUBLISH
PRODID:-//6577@www.region-coburg.tv//NONSGML iCalcreator 2.4.3//
VERSION:2.0
BEGIN:VEVENT
UID:6577-20260504140000-20260504193000@www.region-coburg.tv
DTSTAMP:20260423T214453Z
CREATED:20260423T125400Z
DESCRIPTION:BlutspendeterminUnser Oberbürgermeister glaubt an uns und sein
  Coburg! 600 Spenderinnen und Spender am 04.05.2026 in der alten Pakethall
 e.Neben Essen und Trinken erwarten euch weitere Akteure. Unter anderem die
  Rettungshundestaffel und die AKB. Bringt gern eure Kinder mit. Sie werden
  während des Termins von uns betreut. Glitzertattoos und Weiters warten v
 or Ort. Jeder Spendende bis zum Spendenziel von 600 erhält zusätzlich zu
  seinem Becher (wie von Dominik Sauerteig prästentiert) ein Los. Hier kon
 nten wir viele Sponsoren gewinnen. Veranstaltungsservice Bamberg\, die Teu
 fel GbR\, Buchhandlung Riemann\, Thalia\, Blooms and Rooms\, HUK Coburg\, 
 Eis Adria\, Enrico Pizzato\, Shortys\, Schülbe Werbemittel\, und noch vie
 le mehr...Also bitte Termin buchen und vorbei kommen! Sollten wir 600 Spen
 dende schaffen wird es am Spendentermin 27.07.2026 ein Eis von unserem Obe
 rbürgermeister für jeden Spender geben!
DTEND:20260504T193000
DTSTART:20260504T140000
LAST-MODIFIED:20260423T125400Z
LOCATION:Coburg\, Pakethalle
SUMMARY:Blutspendetermin
X-IMAGE:http://www.region-coburg.tv/images/medium/blut-fab21d1d.jpg
END:VEVENT
END:VCALENDAR
