BEGIN:VCALENDAR
METHOD:PUBLISH
PRODID:-//6573@www.region-coburg.tv//NONSGML iCalcreator 2.4.3//
VERSION:2.0
BEGIN:VEVENT
UID:6573-20260510100000-20260510000000@www.region-coburg.tv
DTSTAMP:20260422T172953Z
CREATED:20260422T170300Z
DESCRIPTION:Eröffnung des Internationales PuppenFestival Neustadt und Sonn
 eberg 2026Die offizielle Eröffnungsfeier findet am Sonntag\, 10. Mai 2026
  auf dem Marktplatz in Neustadt b. Coburg statt. Während der Festivalwoch
 e sind verschiedene Ausstellungen\, Aktionstage in regionalen Spielzeugfir
 men\, Werkverskäufe\, Floh- und Trödelmärkte\, der große Antik- und Sa
 mmlermarkt\, (Stadt-)Führungen sowie weitere Aktions- und Mitmachprogramm
 e für Groß und Klein geplant. Neben Puppendoktoren sowie regionalen Vere
 inen und Künstlern gestalten auch die Museen in Neustadt und Sonneberg da
 s Festival wieder mit viel Engagement und Herzblut mit.Weitere Information
 en: https://puppenfestival-neustadt.com/index.php
DTEND:20260510T000000
DTSTART:20260510T100000
LAST-MODIFIED:20260422T170300Z
LOCATION:Neustadt bei Coburg\, Marktplatz
SUMMARY:Eröffnung des Internationales Puppenfestivals
X-IMAGE:http://www.region-coburg.tv/images/medium/puppenfestival-ca075767.p
 ng
END:VEVENT
END:VCALENDAR
