BEGIN:VCALENDAR
METHOD:PUBLISH
PRODID:-//6572@www.region-coburg.tv//NONSGML iCalcreator 2.4.3//
VERSION:2.0
BEGIN:VEVENT
UID:6572-20260510000000-20260517000000@www.region-coburg.tv
DTSTAMP:20260422T172927Z
CREATED:20260422T165800Z
DESCRIPTION:Internationales PuppenFestival Neustadt und Sonneberg 2026Im Wo
 nnemonat Mai ist es wieder soweit: Das Internationale PuppenFestival Neust
 adt und Sonneberg steht vor der Tür. Vom 10. bis 17. Mai 2026 lädtDeutsc
 hlands zentrale Puppen- und Spielzeugregion zum größten Festival der Wel
 t für Puppen\, Teddybären\, Miniaturen\, antike Raritäten und vielem me
 hr ein!Das Internationale PuppenFestival findet 2026 wieder zeitgleich zu 
 Himmelfahrt statt und bleibt ein wahrer Pflichttermin für Puppenliebhaber
  und Teddyfans – gleich ob Kinder\, Erwachsene oder Sammler.Weitere Info
 rmationen: https://puppenfestival-neustadt.com/index.php
DTEND;VALUE=DATE:20260518
DTSTART;VALUE=DATE:20260510
LAST-MODIFIED:20260422T165800Z
LOCATION:Neustadt und Sonneberg
SUMMARY:Internationales Puppenfestival
X-IMAGE:http://www.region-coburg.tv/images/medium/puppenfestival-ca075767.p
 ng
END:VEVENT
END:VCALENDAR
