BEGIN:VCALENDAR
METHOD:PUBLISH
PRODID:-//6571@www.region-coburg.tv//NONSGML iCalcreator 2.4.3//
VERSION:2.0
BEGIN:VEVENT
UID:6571-20260423193000-20260423000000@www.region-coburg.tv
DTSTAMP:20260422T014249Z
CONTACT:www.bbc-coburg.com/tickets/
CREATED:20260421T112100Z
DESCRIPTION:Basketball\, 2. Basketball Bundesliga PRO BPlayoffs der Saison 
 25/26Weitere Informationen: BBC CoburgDie bisher erfolgreichste ProB-Saiso
 n des BBC Coburg schreibt am Donnerstag ihr nächstes Kapitel: Nach dem 2:
 0-Erfolg über die Neustadt temps Shooters im Achtelfinale geht es für di
 e Vestestädter in der Runde der letzten Acht\, wo die Mannschaft von Patr
 ick Seidel weiterhin in den Genuss des Heimvorteils kommt\, gegen die Bask
 ets Juniors TSG Westerstede. Im Viertelfinale bezwang der Oldenburger Nach
 wuchs im Duell der Zweitvertretungen den FC Bayern Basketball und lauert g
 egen den BBC nun auf den ersten Halbfinaleinzug seit 2015.Jump in der HUK-
 COBURG arena ist am Donnerstagabend um 19:30 Uhr. Tickets für das erste v
 on möglichen drei Viertelfinal-Spielen können wie gewohnt an den bekannt
 en Vorverkaufsstellen in der Apotheke am Forst und in der Apotheke im Wirt
 sgrund oder an der Abendkasse erworben werden. - Tickets: www.bbc-coburg.c
 om/tickets/
DTEND:20260423T000000
DTSTART:20260423T193000
LAST-MODIFIED:20260421T112100Z
LOCATION:HUK-COBURG arena
SUMMARY:Playoff-Viertelfinale: BBC Coburg - Baskets Juniors TSG Westerstede
X-IMAGE:http://www.region-coburg.tv/images/medium/bbc-coburg-d54421ad.jpg
END:VEVENT
END:VCALENDAR
