BEGIN:VCALENDAR
METHOD:PUBLISH
PRODID:-//6547@www.region-coburg.tv//NONSGML iCalcreator 2.4.3//
VERSION:2.0
BEGIN:VEVENT
UID:6547-20260314180000-20260314000000@www.region-coburg.tv
DTSTAMP:20260425T005622Z
CONTACT:Eintritt frei!
CREATED:20260307T191400Z
DESCRIPTION:3. Swim NightDie wohl gefragteste Veranstaltung unter Euch Juge
 ndlichen wird jetzt sehr schnell möglich sein  - Tickets: Eintritt frei!
DTEND:20260314T000000
DTSTART:20260314T180000
LAST-MODIFIED:20260307T191400Z
LOCATION:Neustadt\, Hallenbad Bademehr
SUMMARY:3. Swim Night
X-IMAGE:http://www.region-coburg.tv/images/medium/screenshot-20260307-19121
 7-instagram-0dea731d.jpg
END:VEVENT
END:VCALENDAR
