BEGIN:VCALENDAR
METHOD:PUBLISH
PRODID:-//6514@www.region-coburg.tv//NONSGML iCalcreator 2.4.3//
VERSION:2.0
BEGIN:VEVENT
UID:6514-20260609200000-20260609000000@www.region-coburg.tv
DTSTAMP:20260426T041034Z
CONTACT:09561 / 898989
CREATED:20260124T205200Z
DESCRIPTION:First Steps „Why Not?“Dauer: ca. 2 StundenPremiere: 29. Mai
  2026Spielort: ReithalleSparte: BallettChoreografische Miniaturen des Ball
 ett CoburgEinmal pro Spielzeit gibt das Format First Steps den Tänzer*inn
 en des Ballettensembles des Landestheaters Coburg die Gelegenheit\, ihre e
 igenen Choreografien zur Uraufführung zu bringen. Dabei bleibt es nicht n
 ur bei der Bewegung: Auch in den Bereichen Bühnen- und Kostümbild sowie 
 Lichtdesign können sie kreativ werden und ihre künstlerische Handschrift
  weiterentwickeln. First Steps versteht sich als Plattform für junge Chor
 eograf*innen\, die mit verschiedenen Tanzstilen und Bewegungssprachen expe
 rimentieren und neue Konzepte erproben. Auch musikalisch ist die Bandbreit
 e groß – von Klassik über Pop bis hin zu Hip-Hop.In der nunmehr 14. Au
 sgabe präsentiert das Ballett Coburg unter dem Titel First Steps „why n
 ot?“ erneut die Vielfalt und Ausdruckskraft des Tanzes – frei\, ungefi
 ltert und ohne Grenzen. - Tickets: 09561 / 898989
DTEND:20260609T000000
DTSTART:20260609T200000
LAST-MODIFIED:20260124T205200Z
LOCATION:Landestheater Coburg\, Reithalle
SUMMARY:First Steps „Why Not?“
X-IMAGE:http://www.region-coburg.tv/images/medium/steps-2427acec.jpg
END:VEVENT
END:VCALENDAR
