BEGIN:VCALENDAR
METHOD:PUBLISH
PRODID:-//6490@www.region-coburg.tv//NONSGML iCalcreator 2.4.3//
VERSION:2.0
BEGIN:VEVENT
UID:6490-20251207140000-20251207170000@www.region-coburg.tv
DTSTAMP:20260420T110335Z
CREATED:20251201T152000Z
DESCRIPTION:Weihnachtsmarkt an der WaldbühneAm 2. Advent laden die Dorfver
 eine Heldritt herzlich zum stimmungvollen Weihnachtsmarkt an der Waldbühn
 e ein. Von 14 - 17 Uhr erwartet Besucherinnnen und Bsucher ein festlich  
 geschmücktes Gelände mit heißen Getränken\, leckerem Essen und einer b
 unten Auswahl an Weihnachtsständen. Ein abwechslungsreiches Programm fü
 r Jung und Alt sorgt für vorweihnachtliche Stimmung inmitten der winterli
 chen Natur. Der Eintritt ist frei und Speisen sowie Getränke werden auf 
 Spendenbasis angeboten - der Erlös unterstützt die Jugendarbeit der Held
 ritter Vereine. Ein Besuch lohnt scih für die ganze Familie - genießen S
 ie eine paar besinnliche Stunden in der winterlichen Kulisse der Waldbühn
 e Heldritt.
DTEND:20251207T170000
DTSTART:20251207T140000
LAST-MODIFIED:20251201T152000Z
LOCATION:Bad Rodach\, Waldbühne Heldritt
SUMMARY:Weihnachtsmarkt an der Waldbühne
X-IMAGE:http://www.region-coburg.tv/images/medium/waldbuehne-01416b15.jpg
END:VEVENT
END:VCALENDAR
