BEGIN:VCALENDAR
METHOD:PUBLISH
PRODID:-//6489@www.region-coburg.tv//NONSGML iCalcreator 2.4.3//
VERSION:2.0
BEGIN:VEVENT
UID:6489-20251213200000-20251213000000@www.region-coburg.tv
DTSTAMP:20260420T105902Z
CONTACT:nur VVK!
CREATED:20251201T150300Z
DESCRIPTION:Malle ist nur einmal im JahrSeid dabei wenn wir Lichtenfels am 
 13. Dezember 2025 zum geilsten Ort der Welt machen.Wir feiern gemeinsam mi
 t tausenden partyverrückten Inselkindern das größte Indoor Partyfestiva
 l Süddeutschlands in der Stadthalle Lichtenfels - Absoluter Kultstatus !E
 ure Malle Superstars Live on Stage in Lichtenfels:IKKE HÜFTGOLD (Bumbsbar
 \, Ich schwanke noch\, Pyrotechnik\, Links/Rechts)ISI GLÜCK (DSDS\, Delfi
 n\, Oberteil\, Mallekind\, das Leben ist ne Party)KREISLIGALEGENDE (Modest
 e\, Dorflove\, Malle ist Liebe)CALVIN KLEINEN (RTL Partyhero\, Bauch Beine
  Po\, Ex on the Beach)CARO WINTER (Atlantis\, Bierkönig\, Newcomerin des 
 Jahres)HONK (Anna Lena\, Hallo Helmut)NOISETIME (Hurensohn\, Lampen an\, E
 cht Remixe)UND der beste Party DJ der Welt TIMO SCHEPPERT !Für euch gibt 
 es neben den Live Auftritten auch Fotoshootings & Autogramme mit euren Mal
 lorca Superstars.Es wird GRÖßER und GEILER:Unsere Bühnenshow 2025 ist G
 EWALTIG! Eine aufwendige Pyro Show mit in Deutschland einzigartigen Highli
 ghts\, fantastischen Lichteffekten\, spektakulärer XXL Festival Lasershow
 \, CO2 Kanonen\, Mega Konfetti Blustern\, LED Videowalls.Event für Erwach
 sene: Der Einlass ist strikt ab 18 Jahren! - Tickets: nur VVK!
DTEND:20251213T000000
DTSTART:20251213T200000
LAST-MODIFIED:20251201T150300Z
LOCATION:Lichtenfels\, Stadthalle
SUMMARY:Malle ist nur einmal im Jahr
X-IMAGE:http://www.region-coburg.tv/images/medium/malle-2c273861.jpg
END:VEVENT
END:VCALENDAR
