BEGIN:VCALENDAR
METHOD:PUBLISH
PRODID:-//6482@www.region-coburg.tv//NONSGML iCalcreator 2.4.3//
VERSION:2.0
BEGIN:VEVENT
UID:6482-20251204200000-20251204000000@www.region-coburg.tv
DTSTAMP:20260422T101807Z
CREATED:20251124T152200Z
DESCRIPTION:Eva Karl Faltermeier: â€žDing Dongâ€œEva Karl Faltermeier ist b
 ekannt fÃ¼r ihren scharfen Witz und ihre unnachahmliche Art mit der sie da
 s Publikum begeistert. Auch in ihrem dritten BÃ¼hnenprogramm â€žDing Dongâ
 €œ bleibt sie ihrem Stil treu\, wenn sie mit den Zuschauenden ihre gesells
 chaftspolitischen Beobachtungen teilt. Den NÃ¤hrboden dafÃ¼r liefert hÃ¤uf
 ig ihre Herkunft\, die Streiche\, die ihr das Leben spielt â€“ sie eignen 
 sich ideal\, um vom Kleinen aufâ€™s GroÃŸe zu schlieÃŸen.
DTEND:20251204T000000
DTSTART:20251204T200000
LAST-MODIFIED:20251124T152200Z
LOCATION:Coburg\, Kongresshaus Rosengarten
SUMMARY:Eva Karl Faltermeier: â€žDing Dongâ€œ
X-IMAGE:http://www.region-coburg.tv/images/medium/dingdong-51e92a51.jpg
END:VEVENT
END:VCALENDAR
