BEGIN:VCALENDAR
METHOD:PUBLISH
PRODID:-//6481@www.region-coburg.tv//NONSGML iCalcreator 2.4.3//
VERSION:2.0
BEGIN:VEVENT
UID:6481-20251206200000-20251206230000@www.region-coburg.tv
DTSTAMP:20260420T172912Z
CONTACT:25\,00 € / 15\,00 € Erm. Eintritt für Kinder/Schülerschaft/St
 udierende
CREATED:20251124T151000Z
DESCRIPTION:Zimt & Zauber - Weihnachtsvarieté 2025Zimt & Zauber - Das Weih
 nachtsvarieté.Seit über 20 Jahren jedes Jahr eine neue Show und eine neu
 e Geschichte mit internationalen Varietékünstlern. Auch in diesem Jahr e
 rwartet die Gäste eine weihnachtlich-märchenhafte Geschichte rund um den
  Weihnachtsmann\, der alles dafür tun muss\, das Weihnachten stattfinden 
 kann.Umrahmt von Varietékünstler\, Akrobatik\, Jonglage\, Zauberkunst un
 d vielen Überraschungen ist diese Show ein Erlebnis für die ganze Famili
 e und stimmt perfekt auf die Vorweihnachtszeit ein! - Tickets: 25\,00 € 
 / 15\,00 € Erm. Eintritt für Kinder/Schülerschaft/Studierende
DTEND:20251206T230000
DTSTART:20251206T200000
LAST-MODIFIED:20251124T151000Z
LOCATION:Coburg\, Pfarr- und Dekanatszentrum St. Augustin
SUMMARY:Zimt & Zauber - Weihnachtsvarieté 2025
X-IMAGE:http://www.region-coburg.tv/images/medium/zimtundzauber-9ef4154a.jp
 g
END:VEVENT
END:VCALENDAR
