BEGIN:VCALENDAR
METHOD:PUBLISH
PRODID:-//6439@www.region-coburg.tv//NONSGML iCalcreator 2.4.3//
VERSION:2.0
BEGIN:VEVENT
UID:6439-20251103000000-20251107000000@www.region-coburg.tv
DTSTAMP:20260423T104156Z
CREATED:20251023T173600Z
DESCRIPTION:Herbstferienaktion: Ab in den HörsaalWie ist das so\, in einem
  Hörsaal zu sitzen? Wie läuft eine Vorlesung ab? Welche Themen werden da
  behandelt? Was lernen Studierende zum Beispiel im Studiengang Maschinenba
 u\, Informatik oder Soziale Arbeit eigentlich konkret? Das könnt ihr in d
 en bayerischen Herbstferien vom 3. – 7. November 2025 an der Hochschule 
 Coburg selbst erfahren und ausprobieren! Wir öffnen für Studieninteressi
 erte ausgewählte Lehrveranstaltungen des regulären Semesterprogramms all
 er Fachbereiche - das heißt aus dem Bereich Soziales und Gesundheit\, Wir
 tschaft\, Bauen und Design\, Technik\, Informatik und Naturwissenschaften.
  Wenn du Lust hast\, ein oder mehrere Lehrveranstaltungen zu besuchen\, da
 nn gib uns Bescheid! Wir schicken dir die Infos zu den Vorlesungszeiten un
 d -orten zu. Alle Informationen unter www.hs-coburg.de/veranstaltung/herbs
 tferienaktion-ab-in-den-hoersaal/
DTEND;VALUE=DATE:20251108
DTSTART;VALUE=DATE:20251103
LAST-MODIFIED:20251023T173600Z
LOCATION:Coburg\, Hochschule
SUMMARY:Herbstferienaktion: Ab in den Hörsaal
X-IMAGE:http://www.region-coburg.tv/images/medium/hscoburg-1528c837.png
END:VEVENT
END:VCALENDAR
