BEGIN:VCALENDAR
METHOD:PUBLISH
PRODID:-//6401@www.region-coburg.tv//NONSGML iCalcreator 2.4.3//
VERSION:2.0
BEGIN:VEVENT
UID:6401-20250909000000-20251019000000@www.region-coburg.tv
DTSTAMP:20260423T215924Z
CONTACT:Eintritt frei!
CREATED:20250905T123500Z
DESCRIPTION:Kunstausstellung 'GIRLHOOD' von Julia ZimmerAm Dienstag\, den 0
 9.09. wird um 19.00 Uhr im dialog\, dem Stadtbüro der Diakonie in der Met
 zgergasse 13 eine besondere Ausstellung eröffnet. Mit „Girlhood“ hat 
 die Künstlerin Julia Zimmer ihren Bildern ein verbindendes Thema gegeben.
  Erwachsenwerden\, Zusammenhalt und geteilte Erfahrungen von Mädchen und 
 jungen Frauen werden mit unterschiedlichen Materialien und Techniken küns
 tlerisch zum Ausdruck gebracht. Zimmer nimmt dabei eine feministische Pers
 pektive ein\, die auch mehrfache Diskriminierung thematisiert.Zur Ausstell
 ungseröffnung und Gesprächen sind alle interessierten Personen eingelade
 n. Musikalisch umrahmt wird die Veranstaltung vom Duo Darika. Die Ausstell
 ung wird bis zum 19. Oktober während der Offenen Sprechzeiten im dialog z
 u sehen sein. - Tickets: Eintritt frei!
DTEND;VALUE=DATE:20251020
DTSTART;VALUE=DATE:20250909
LAST-MODIFIED:20250905T123500Z
LOCATION:dialog - Stadtbüro der Diakonie
SUMMARY:GIRLHOOD
X-IMAGE:http://www.region-coburg.tv/images/medium/girlhood-14087d46.jpg
END:VEVENT
END:VCALENDAR
