BEGIN:VCALENDAR
METHOD:PUBLISH
PRODID:-//6391@www.region-coburg.tv//NONSGML iCalcreator 2.4.3//
VERSION:2.0
BEGIN:VEVENT
UID:6391-20251206180000-20251206000000@www.region-coburg.tv
DTSTAMP:20260422T000051Z
CONTACT:www.bbc-coburg.com/tickets/
CREATED:20250818T101400Z
DESCRIPTION:Basketball\, 2. Basketball Bundesliga PRO B SüdHinrunde der Sa
 ison 25/26Weitere Informationen: BBC Coburg - Tickets: www.bbc-coburg.com/
 tickets/
DTEND:20251206T000000
DTSTART:20251206T180000
LAST-MODIFIED:20250818T101400Z
LOCATION:HUK-COBURG arena
SUMMARY:BBC Coburg - OrangeAcademy
X-IMAGE:http://www.region-coburg.tv/images/medium/bbc-coburg-d54421ad.jpg
END:VEVENT
END:VCALENDAR
