BEGIN:VCALENDAR
METHOD:PUBLISH
PRODID:-//6389@www.region-coburg.tv//NONSGML iCalcreator 2.4.3//
VERSION:2.0
BEGIN:VEVENT
UID:6389-20251026160000-20251026000000@www.region-coburg.tv
DTSTAMP:20260422T221814Z
CONTACT:www.bbc-coburg.com/tickets/
CREATED:20250818T101200Z
DESCRIPTION:Basketball\, 2. Basketball Bundesliga PRO B SüdHinrunde der Sa
 ison 25/26Weitere Informationen: BBC Coburg - Tickets: www.bbc-coburg.com/
 tickets/
DTEND:20251026T000000
DTSTART:20251026T160000
LAST-MODIFIED:20250818T101200Z
LOCATION:HUK-COBURG arena
SUMMARY:BBC Coburg - SV Fellbach Flashers
X-IMAGE:http://www.region-coburg.tv/images/medium/bbc-coburg-d54421ad.jpg
END:VEVENT
END:VCALENDAR
