BEGIN:VCALENDAR
METHOD:PUBLISH
PRODID:-//6388@www.region-coburg.tv//NONSGML iCalcreator 2.4.3//
VERSION:2.0
BEGIN:VEVENT
UID:6388-20251018190000-20251018000000@www.region-coburg.tv
DTSTAMP:20260421T202909Z
CONTACT:www.bbc-coburg.com/tickets/
CREATED:20250818T100800Z
DESCRIPTION:Basketball\, 2. Basketball Bundesliga PRO B SüdHinrunde der Sa
 ison 25/26Weitere Informationen: BBC Coburg - Tickets: www.bbc-coburg.com/
 tickets/
DTEND:20251018T000000
DTSTART:20251018T190000
LAST-MODIFIED:20250818T100800Z
LOCATION:HUK-COBURG arena
SUMMARY:BBC Coburg - BG Hessing Leitershofen
X-IMAGE:http://www.region-coburg.tv/images/medium/bbc-coburg-d54421ad.jpg
END:VEVENT
END:VCALENDAR
