BEGIN:VCALENDAR
METHOD:PUBLISH
PRODID:-//6387@www.region-coburg.tv//NONSGML iCalcreator 2.4.3//
VERSION:2.0
BEGIN:VEVENT
UID:6387-20251005160000-20251005000000@www.region-coburg.tv
DTSTAMP:20260421T203243Z
CONTACT:www.bbc-coburg.com/tickets/
CREATED:20250818T100800Z
DESCRIPTION:Basketball\, 2. Basketball Bundesliga PRO B SüdHinrunde der Sa
 ison 25/26Weitere Informationen: BBC Coburg - Tickets: www.bbc-coburg.com/
 tickets/
DTEND:20251005T000000
DTSTART:20251005T160000
LAST-MODIFIED:20250818T100800Z
LOCATION:HUK-COBURG arena
SUMMARY:BBC Coburg - SKYLINERS Juniors
X-IMAGE:http://www.region-coburg.tv/images/medium/bbc-coburg-d54421ad.jpg
END:VEVENT
END:VCALENDAR
