BEGIN:VCALENDAR
METHOD:PUBLISH
PRODID:-//6383@www.region-coburg.tv//NONSGML iCalcreator 2.4.3//
VERSION:2.0
BEGIN:VEVENT
UID:6383-20251207170000-20251207000000@www.region-coburg.tv
DTSTAMP:20260422T000256Z
CONTACT:www.ticket-onlineshop.com/ols/hsc2000/
CREATED:20250813T190100Z
DESCRIPTION:Handball\, 2. BundesligaHinrunde der Saison 25/26Weitere Infor
 mationen: HSC 2000 Coburg - Tickets: www.ticket-onlineshop.com/ols/hsc2000
 /
DTEND:20251207T000000
DTSTART:20251207T170000
LAST-MODIFIED:20250813T190100Z
LOCATION:HUK-COBURG arena
SUMMARY:HSC 2000 Coburg - TuSEM Essen
X-IMAGE:http://www.region-coburg.tv/images/medium/hsc-logo-12cdc267.jpg
END:VEVENT
END:VCALENDAR
