BEGIN:VCALENDAR
METHOD:PUBLISH
PRODID:-//6382@www.region-coburg.tv//NONSGML iCalcreator 2.4.3//
VERSION:2.0
BEGIN:VEVENT
UID:6382-20251121200000-20251121000000@www.region-coburg.tv
DTSTAMP:20260422T222059Z
CONTACT:www.ticket-onlineshop.com/ols/hsc2000/
CREATED:20250813T190000Z
DESCRIPTION:Handball\, 2. BundesligaHinrunde der Saison 25/26Weitere Infor
 mationen: HSC 2000 Coburg - Tickets: www.ticket-onlineshop.com/ols/hsc2000
 /
DTEND:20251121T000000
DTSTART:20251121T200000
LAST-MODIFIED:20250813T190000Z
LOCATION:HUK-COBURG arena
SUMMARY:HSC 2000 Coburg - Eulen Ludwigshafen
X-IMAGE:http://www.region-coburg.tv/images/medium/hsc-logo-12cdc267.jpg
END:VEVENT
END:VCALENDAR
