BEGIN:VCALENDAR
METHOD:PUBLISH
PRODID:-//6381@www.region-coburg.tv//NONSGML iCalcreator 2.4.3//
VERSION:2.0
BEGIN:VEVENT
UID:6381-20251108180000-20251108000000@www.region-coburg.tv
DTSTAMP:20260422T221330Z
CONTACT:www.ticket-onlineshop.com/ols/hsc2000/
CREATED:20250813T185900Z
DESCRIPTION:Handball\, 2. BundesligaHinrunde der Saison 25/26Weitere Infor
 mationen: HSC 2000 Coburg - Tickets: www.ticket-onlineshop.com/ols/hsc2000
 /
DTEND:20251108T000000
DTSTART:20251108T180000
LAST-MODIFIED:20250813T185900Z
LOCATION:HUK-COBURG arena
SUMMARY:HSC 2000 Coburg - TV 05/07 Hüttenberg
X-IMAGE:http://www.region-coburg.tv/images/medium/hsc-logo-12cdc267.jpg
END:VEVENT
END:VCALENDAR
