BEGIN:VCALENDAR
METHOD:PUBLISH
PRODID:-//6379@www.region-coburg.tv//NONSGML iCalcreator 2.4.3//
VERSION:2.0
BEGIN:VEVENT
UID:6379-20251012170000-20251012000000@www.region-coburg.tv
DTSTAMP:20260421T203331Z
CONTACT:www.ticket-onlineshop.com/ols/hsc2000/
CREATED:20250813T185800Z
DESCRIPTION:Handball\, 2. BundesligaHinrunde der Saison 25/26Weitere Infor
 mationen: HSC 2000 Coburg - Tickets: www.ticket-onlineshop.com/ols/hsc2000
 /
DTEND:20251012T000000
DTSTART:20251012T170000
LAST-MODIFIED:20250813T185800Z
LOCATION:HUK-COBURG arena
SUMMARY:Familienspieltag: HSC 2000 Coburg - HC Elbflorenz 2006
X-IMAGE:http://www.region-coburg.tv/images/medium/hsc-logo-12cdc267.jpg
END:VEVENT
END:VCALENDAR
