BEGIN:VCALENDAR
METHOD:PUBLISH
PRODID:-//6327@www.region-coburg.tv//NONSGML iCalcreator 2.4.3//
VERSION:2.0
BEGIN:VEVENT
UID:6327-20250717000000-20250721000000@www.region-coburg.tv
DTSTAMP:20260419T192838Z
CREATED:20250606T130800Z
DESCRIPTION:SchlossplatzfestNordbayerische GourmetmeileAuch 2025 lädt das
  Schlossplatzfest in Coburg erneut zum ausgelassenen Feiern ein! Die Gäst
 e erwartet ein vielfältiges Programm auf dem idyllischen Schlossplatz. Au
 f den beiden Bühnen sorgen zahlreiche Bands und Kunstschaffende für eine
  mitreißende Stimmung und erstklassige Unterhaltung. Das gastronomische A
 ngebot lässt ebenfalls keine Wünsche offen\, mit regionalen und internat
 ionalen Spezialitäten sowie erfrischenden Getränken. Am Sonntag haben Ki
 nder die Möglichkeit\, sich auf dem Kinderfest bei kreativen Mitmachaktio
 nen auszutoben. Besondere Highlights sind das große Feuerwerk und die Mod
 enschau am Samstag. Kommen Sie von Donnerstag bis Montag ab 17:00 Uhr vorb
 ei und feiern Sie mit – das Kinderfest startet am Sonntag bereits um 11:
 00 Uhr!
DTEND;VALUE=DATE:20250722
DTSTART;VALUE=DATE:20250717
LAST-MODIFIED:20250606T130800Z
LOCATION:Coburg\, Schlossplatz
SUMMARY:Schlossplatzfest
X-IMAGE:http://www.region-coburg.tv/images/medium/schlossplatzfest-ccd5ed0e
 .jpg
END:VEVENT
END:VCALENDAR
