BEGIN:VCALENDAR
METHOD:PUBLISH
PRODID:-//6326@www.region-coburg.tv//NONSGML iCalcreator 2.4.3//
VERSION:2.0
BEGIN:VEVENT
UID:6326-20250711000000-20250713000000@www.region-coburg.tv
DTSTAMP:20260419T175808Z
CREATED:20250606T130400Z
DESCRIPTION:Internationales Samba-FestivalGrÃ¶ÃŸtes Samba-Festival auÃŸerha
 lb BrasiliensDas Internationale Samba-Festival ist Coburgs berÃ¼hmtestes F
 est\, eine kulturelle Institution und weit Ã¼ber die historischen Stadtgre
 nzen bekannt. Was einst aus einer spontanen Idee und der Liebe zur Samba-M
 usik Anfang der 1990er-Jahre begann\, ist heute ein Megaevent. Bis zu 150.
 000 Besucherinnen und Besucher aus der ganzen Welt strÃ¶men an diesem Woch
 enende nach Coburg\, um beim weltweit zweitgrÃ¶ÃŸten Samba-Festival nach d
 em Karneval in Rio de Janeiro dabei zu sein.Tausende internationale Sambis
 tas\, Capoeiristas\,Â TÃ¤nzerinnen und TÃ¤nzer sorgen in der Innenstadt fÃ
 ¼r den Ausnahmezustand. Die Gruppen bieten ein buntes Programm und spielen
  oft bis nach Mitternacht im Wechsel auf verschiedenen BÃ¼hnen. Im Kongres
 shaus Rosengarten steigt eine Samba-Nacht. 2011 erhielt dasÂ stimmungsvoll
 e Samba-Festival in CoburgÂ denÂ â€žExportpreis Bayernâ€œ\, 2014 wurde es 
 sogar mit demÂ Edison-Carneiro-Preis fÃ¼r die â€žbeste Samba-Veranstaltung
  auÃŸerhalb von Rioâ€œÂ ausgezeichnet.Â 
DTEND;VALUE=DATE:20250714
DTSTART;VALUE=DATE:20250711
LAST-MODIFIED:20250606T130400Z
LOCATION:Coburg\, Innenstadt
SUMMARY:Internationales Samba-Festival
X-IMAGE:http://www.region-coburg.tv/images/medium/coburg-2025-798fb933.jpg
END:VEVENT
END:VCALENDAR
