BEGIN:VCALENDAR
METHOD:PUBLISH
PRODID:-//6325@www.region-coburg.tv//NONSGML iCalcreator 2.4.3//
VERSION:2.0
BEGIN:VEVENT
UID:6325-20250821000000-20250824000000@www.region-coburg.tv
DTSTAMP:20260425T112600Z
CREATED:20250606T115000Z
DESCRIPTION:HUK Coburg Open Air SommerDie Sommermonate sind in Coburg für 
 besondere Konzerterlebnisse unter freiem Himmel reserviert!Im traumhaften 
 Ambiente des Schlossplatzes treten auf:WINCENT WEISS am 21. August\,ANDRE
 AS GABALIER am 22. August\, CRO am 23. August und DIE FANTASTISCHEN VIER
  am 24. August.
DTEND;VALUE=DATE:20250825
DTSTART;VALUE=DATE:20250821
LAST-MODIFIED:20250606T115000Z
LOCATION:Coburg\, Schlossplatz
SUMMARY:HUK Coburg Open Air Sommer
X-IMAGE:http://www.region-coburg.tv/images/medium/csm-huk-coburg-open-air-s
 ommer-buehne-licht-c-coburgmarketing-rb-klein-1726650967-c4624c16e4-44c3ca
 1e.jpg
END:VEVENT
END:VCALENDAR
