BEGIN:VCALENDAR
METHOD:PUBLISH
PRODID:-//6324@www.region-coburg.tv//NONSGML iCalcreator 2.4.3//
VERSION:2.0
BEGIN:VEVENT
UID:6324-20250618000000-20250622000000@www.region-coburg.tv
DTSTAMP:20260419T174513Z
CREATED:20250606T114000Z
DESCRIPTION:HUK Coburg Open Air SommerDie Sommermonate sind in Coburg für 
 besondere Konzerterlebnisse unter freiem Himmel reserviert!Für die neue 
 Veranstaltungsstätte\, die Kulturfabrik Cortendorf\, Mühlenweg 6\, st
 ehen folgende Konzerttermine fest:STAHLZEIT am 18. Juni\,GIOVANNI ZARRELLA
  am 19. Juni\,LEA am 20. Juni\, BEATSTEAKS am 21. Juni und RONAN KEATIN
 G am 22. Juni.
DTEND;VALUE=DATE:20250623
DTSTART;VALUE=DATE:20250618
LAST-MODIFIED:20250606T114000Z
LOCATION:Coburg\, Kulturfabrik Cortendorf
SUMMARY:HUK Coburg Open Air Sommer
X-IMAGE:http://www.region-coburg.tv/images/medium/csm-huk-coburg-open-air-s
 ommer-buehne-licht-c-coburgmarketing-rb-klein-1726650967-c4624c16e4-44c3ca
 1e.jpg
END:VEVENT
END:VCALENDAR
