BEGIN:VCALENDAR
METHOD:PUBLISH
PRODID:-//6251@www.region-coburg.tv//NONSGML iCalcreator 2.4.3//
VERSION:2.0
BEGIN:VEVENT
UID:6251-20250131143000-20250131153000@www.region-coburg.tv
DTSTAMP:20260423T154350Z
CONTACT:Kostenlos! Erforderliche Anmeldung unter Tel.: 09568 81136
CREATED:20250128T130400Z
DESCRIPTION:Vorlese- und Bastelspaß in der Mediathekfür 4- bis ca. 8-jäh
 rige KinderThema: 'Lustige Pinguine'Wir lesen zuerst ein Bilderbuch oder e
 ine kurze Geschichte vor und anschließend basteln oder malen wir mit euch
 . Das Angebot ist kostenlos\, aber bitte unbedingt Anmeldung der Kinder u
 nter Tel. 09568 81-136. - Tickets: Kostenlos! Erforderliche Anmeldung unte
 r Tel.: 09568 81136
DTEND:20250131T153000
DTSTART:20250131T143000
LAST-MODIFIED:20250128T130400Z
LOCATION:Mediathek Neustadt
SUMMARY:Vorlese- und Bastelspaß
X-IMAGE:http://www.region-coburg.tv/images/medium/lustige-pinguine-d8a60530
 .jpg
END:VEVENT
END:VCALENDAR
