BEGIN:VCALENDAR
METHOD:PUBLISH
PRODID:-//6240@www.region-coburg.tv//NONSGML iCalcreator 2.4.3//
VERSION:2.0
BEGIN:VEVENT
UID:6240-20250201140000-20250201000000@www.region-coburg.tv
DTSTAMP:20260423T172251Z
CONTACT:Eintritt frei!
CREATED:20241228T201400Z
DESCRIPTION:Coburg spielt - Gratis SpieletagKommt vorbei und spielt mit. Je
 den 1. Samstag im Monat verwandeln wir die CoJe in ein Paradies für Spiel
 efans. Von klassischen bis aufwändigen Brettspielen\, über Pen&Paper-Rol
 lenspiele (RPG) wie Dungeons & Dragons\, Tabletops (TT) wie Warhammer 40k 
 bis hin zu Trading Cards wie Yu-Gi-Oh! und Digimon ist alles mit dabei. Da
 mit die Gratis-Spieletage für Euch und uns besser planbar sind\, müsst I
 hr eine Runde (RPG\, TT) vorab online eintragen. Dann können sich die Int
 eressierten für Eure Runde anmelden. Das alles ist natürlich kostenlos. 
 Zum Brettspielen braucht es keine Voranmeldung\, hier könnt ihr einfach s
 o vorbei kommen. - Tickets: Eintritt frei!
DTEND:20250201T000000
DTSTART:20250201T140000
LAST-MODIFIED:20241228T201400Z
LOCATION:Coburg\, Jugendzentrum CoJe
SUMMARY:Coburg spielt - Gratis Spieletag
X-IMAGE:http://www.region-coburg.tv/images/medium/csm-gratis-spieletag-full
 hd-1725100872-9f2e1386c5-7a7ba4db.png
END:VEVENT
END:VCALENDAR
