BEGIN:VCALENDAR
METHOD:PUBLISH
PRODID:-//6217@www.region-coburg.tv//NONSGML iCalcreator 2.4.3//
VERSION:2.0
BEGIN:VEVENT
UID:6217-20241213143000-20241213153000@www.region-coburg.tv
DTSTAMP:20260420T161530Z
CONTACT:Kostenlos! Erforderliche Anmeldung unter Tel.: 09568 81136
CREATED:20241205T100000Z
DESCRIPTION:Vorlese- und Bastelspaß in der Mediathekfür 4- bis ca. 8-jäh
 rige KinderThema: 'Lichterzauber'Wir lesen zuerst ein Bilderbuch oder eine
  kurze Geschichte vor und anschließend basteln oder malen wir mit euch. 
 Das Angebot ist kostenlos\, aber bitte unbedingt Anmeldung der Kinder unte
 r Tel. 09568 81-136. - Tickets: Kostenlos! Erforderliche Anmeldung unter T
 el.: 09568 81136
DTEND:20241213T153000
DTSTART:20241213T143000
LAST-MODIFIED:20241205T100000Z
LOCATION:Mediathek Neustadt
SUMMARY:Vorlese- und Bastelspaß
X-IMAGE:http://www.region-coburg.tv/images/medium/lichterzauber-f2c992fd.jp
 g
END:VEVENT
END:VCALENDAR
