BEGIN:VCALENDAR
METHOD:PUBLISH
PRODID:-//6215@www.region-coburg.tv//NONSGML iCalcreator 2.4.3//
VERSION:2.0
BEGIN:VEVENT
UID:6215-20241207180000-20241207220000@www.region-coburg.tv
DTSTAMP:20260420T161826Z
CREATED:20241203T175800Z
DESCRIPTION:Glow NightVeranstalter: Jugendpflege Neustadt bei CoburgDas Juz
  wird in UV-Licht gehüllt und ihr könnt eure Shirts bemalen\, das Gesich
 t ebenfalls. Und leckere antialkoholische Cocktails trinken. Des Weiteren
  gibt es Musik und viele andere Dinge!
DTEND:20241207T220000
DTSTART:20241207T180000
LAST-MODIFIED:20241203T175800Z
LOCATION:Neustadt\, Jugendzentrum
SUMMARY:Glow Night
X-IMAGE:http://www.region-coburg.tv/images/medium/glow-night-d0049bb2.jpg
END:VEVENT
END:VCALENDAR
