BEGIN:VCALENDAR
METHOD:PUBLISH
PRODID:-//6207@www.region-coburg.tv//NONSGML iCalcreator 2.4.3//
VERSION:2.0
BEGIN:VEVENT
UID:6207-20250208180000-20250208000000@www.region-coburg.tv
DTSTAMP:20260423T172251Z
CONTACT:www.ticket-onlineshop.com/ols/hsc2000/
CREATED:20241203T172400Z
DESCRIPTION:Handball\, 2. BundesligaRückrunde der Saison 24/25Weitere Info
 rmationen: HSC 2000 Coburg - Tickets: www.ticket-onlineshop.com/ols/hsc200
 0/
DTEND:20250208T000000
DTSTART:20250208T180000
LAST-MODIFIED:20241203T172400Z
LOCATION:HUK-COBURG arena
SUMMARY:HSC 2000 Coburg - VfL Eintracht Hagen
X-IMAGE:http://www.region-coburg.tv/images/medium/hsc-logo-12cdc267.jpg
END:VEVENT
END:VCALENDAR
