BEGIN:VCALENDAR
METHOD:PUBLISH
PRODID:-//6204@www.region-coburg.tv//NONSGML iCalcreator 2.4.3//
VERSION:2.0
BEGIN:VEVENT
UID:6204-20241130090000-20241130170000@www.region-coburg.tv
DTSTAMP:20260420T161415Z
CONTACT:Eintritt frei!
CREATED:20241129T171600Z
DESCRIPTION:Winter-Opening bei Wohlleben SportsAm Samstag\, den 30.11.24 fi
 ndet in Dörfles-Esbach unser großes Winter-Opening statt. Lass uns zusam
 men feiern! - Tickets: Eintritt frei!
DTEND:20241130T170000
DTSTART:20241130T090000
LAST-MODIFIED:20241129T171600Z
LOCATION:Dörfles-Esbach\, Intersport Wohlleben
SUMMARY:Winter-Opening
X-IMAGE:http://www.region-coburg.tv/images/medium/csm-event-winter-opening-
 1732008786-0468139c25-60ed3aa5.png
END:VEVENT
END:VCALENDAR
