BEGIN:VCALENDAR
METHOD:PUBLISH
PRODID:-//6191@www.region-coburg.tv//NONSGML iCalcreator 2.4.3//
VERSION:2.0
BEGIN:VEVENT
UID:6191-20241210140000-20241210000000@www.region-coburg.tv
DTSTAMP:20260420T161348Z
CREATED:20241014T132900Z
DESCRIPTION:HandarbeitstreffVeranstalter: AWO-Treff 'Teddybär'\, Kreisver
 band Neustadt b. Coburg e.V.
DTEND:20241210T000000
DTSTART:20241210T140000
LAST-MODIFIED:20241014T132900Z
LOCATION:Neustadt\, AWO-Treff 'Teddybär'
SUMMARY:Handarbeitstreff
X-IMAGE:http://www.region-coburg.tv/images/medium/handarbeitstreff-cbc9efd8
 .jpg
END:VEVENT
END:VCALENDAR
