BEGIN:VCALENDAR
METHOD:PUBLISH
PRODID:-//6184@www.region-coburg.tv//NONSGML iCalcreator 2.4.3//
VERSION:2.0
BEGIN:VEVENT
UID:6184-20241210140000-20241210000000@www.region-coburg.tv
DTSTAMP:20260420T161713Z
CREATED:20241014T130000Z
DESCRIPTION:Geselliger NachmittagVeranstalter: AWO-Treff 'Teddybär'\, Kre
 isverband Neustadt b. Coburg e.V.mit Kaffee & Kuchen
DTEND:20241210T000000
DTSTART:20241210T140000
LAST-MODIFIED:20241014T130000Z
LOCATION:Neustadt\, AWO-Treff 'Teddybär'
SUMMARY:Geselliger Nachmittag
X-IMAGE:http://www.region-coburg.tv/images/medium/geselliger-f2213306.jpg
END:VEVENT
END:VCALENDAR
