BEGIN:VCALENDAR
METHOD:PUBLISH
PRODID:-//6143@www.region-coburg.tv//NONSGML iCalcreator 2.4.3//
VERSION:2.0
BEGIN:VEVENT
UID:6143-20241218123000-20241218133000@www.region-coburg.tv
DTSTAMP:20260420T161610Z
CONTACT:13€ pro Stunde
CREATED:20240820T182800Z
DESCRIPTION:'Yoga Pause in der Mittagsstunde'Tanke Entspannung und EnergieA
 nmeldung unter Luise Starke 0176-45615185 oder luisestarke@googlemail.comE
 ine eigene Yogamatte ist erforderlich und der Kurs ist für alle Level gee
 ignet!im Gymnastikraum der Gerold-Strobel-Halle - Tickets: 13€ pro Stund
 e
DTEND:20241218T133000
DTSTART:20241218T123000
LAST-MODIFIED:20240820T182800Z
LOCATION:Bad Rodach\, Gerold-Strobel-Halle
SUMMARY:Yoga Pause in der Mittagsstunde
X-IMAGE:http://www.region-coburg.tv/images/medium/yoga-d1423ced.jpg
END:VEVENT
END:VCALENDAR
