BEGIN:VCALENDAR
METHOD:PUBLISH
PRODID:-//6117@www.region-coburg.tv//NONSGML iCalcreator 2.4.3//
VERSION:2.0
BEGIN:VEVENT
UID:6117-20250209160000-20250209000000@www.region-coburg.tv
DTSTAMP:20260423T171806Z
CONTACT:www.bbc-coburg.com/tickets/
CREATED:20240730T141000Z
DESCRIPTION:Basketball\, 2. Basketball Bundesliga PRO B SüdRückrunde der 
 Saison 24/25Weitere Informationen: BBC Coburg - Tickets: www.bbc-coburg.co
 m/tickets/
DTEND:20250209T000000
DTSTART:20250209T160000
LAST-MODIFIED:20240730T141000Z
LOCATION:HUK-COBURG arena
SUMMARY:BBC Coburg - Porsche BBA Ludwigsburg
X-IMAGE:http://www.region-coburg.tv/images/medium/bbc-coburg-d54421ad.jpg
END:VEVENT
END:VCALENDAR
