BEGIN:VCALENDAR
METHOD:PUBLISH
PRODID:-//6116@www.region-coburg.tv//NONSGML iCalcreator 2.4.3//
VERSION:2.0
BEGIN:VEVENT
UID:6116-20250123193000-20250123000000@www.region-coburg.tv
DTSTAMP:20260423T154509Z
CONTACT:www.bbc-coburg.com/tickets/
CREATED:20240730T140900Z
DESCRIPTION:Basketball\, 2. Basketball Bundesliga PRO B SüdRückrunde der 
 Saison 24/25Weitere Informationen: BBC Coburg - Tickets: www.bbc-coburg.co
 m/tickets/
DTEND:20250123T000000
DTSTART:20250123T193000
LAST-MODIFIED:20240730T140900Z
LOCATION:HUK-COBURG arena
SUMMARY:BBC Coburg - TEAM EHINGEN URSPRING
X-IMAGE:http://www.region-coburg.tv/images/medium/bbc-coburg-d54421ad.jpg
END:VEVENT
END:VCALENDAR
