BEGIN:VCALENDAR
METHOD:PUBLISH
PRODID:-//6114@www.region-coburg.tv//NONSGML iCalcreator 2.4.3//
VERSION:2.0
BEGIN:VEVENT
UID:6114-20241221190000-20241221000000@www.region-coburg.tv
DTSTAMP:20260420T161549Z
CONTACT:www.bbc-coburg.com/tickets/
CREATED:20240730T140300Z
DESCRIPTION:Basketball\, 2. Basketball Bundesliga PRO B SüdHinrunde der Sa
 ison 24/25Weitere Informationen: BBC Coburg - Tickets: www.bbc-coburg.com/
 tickets/
DTEND:20241221T000000
DTSTART:20241221T190000
LAST-MODIFIED:20240730T140300Z
LOCATION:HUK-COBURG arena
SUMMARY:BBC Coburg - CATL Basketball Löwen
X-IMAGE:http://www.region-coburg.tv/images/medium/bbc-coburg-d54421ad.jpg
END:VEVENT
END:VCALENDAR
