BEGIN:VCALENDAR
METHOD:PUBLISH
PRODID:-//6106@www.region-coburg.tv//NONSGML iCalcreator 2.4.3//
VERSION:2.0
BEGIN:VEVENT
UID:6106-20241214193000-20241214000000@www.region-coburg.tv
DTSTAMP:20260420T161832Z
CONTACT:www.ticket-onlineshop.com/ols/hsc2000/
CREATED:20240717T143900Z
DESCRIPTION:Handball\, 2. BundesligaHinrunde der Saison 24/25Weitere Inform
 ationen: HSC 2000 Coburg - Tickets: www.ticket-onlineshop.com/ols/hsc2000/
DTEND:20241214T000000
DTSTART:20241214T193000
LAST-MODIFIED:20240717T143900Z
LOCATION:HUK-COBURG arena
SUMMARY:HSC 2000 Coburg - HSG Nordhorn-Lingen
X-IMAGE:http://www.region-coburg.tv/images/medium/hsc-logo-12cdc267.jpg
END:VEVENT
END:VCALENDAR
