BEGIN:VCALENDAR
METHOD:PUBLISH
PRODID:-//5960@www.region-coburg.tv//NONSGML iCalcreator 2.4.3//
VERSION:2.0
BEGIN:VEVENT
UID:5960-20240505000000-20240512000000@www.region-coburg.tv
DTSTAMP:20260421T084320Z
CREATED:20240425T123100Z
DESCRIPTION:Internationales PuppenFestival Neustadt und Sonneberg 2024Von D
 onnerstag bis Samstag sind die Türen des Teddy- und Puppenfestes in der E
 ishalle in Sonneberg geöffnet.Von Freitag bis Samstag schließt sich para
 llel die Große Sammlerbörse in der Frankenhallein Neustadt an\, nicht we
 niger als die größte Antik-Puppen-Sammlerbörse der Welt für antike Pup
 pen\, Teddybären\, Hummelfiguren\, Miniaturen\, Christbaumschmuck\, Blech
 spielzeug und Elastolin-Figuren.Gegen Ende der Festivalwoche gibt es in Ne
 ustadt wieder das bunte\, kreative und hoffentlich sonnige Wochenendprogra
 mm für Kinder: Am Samstag\, 11. Mai laden wir zum Familientag am und im M
 useum ein\, am Sonntag\, 12. Mai zum Kindertag im Freizeitpark „Villeneu
 ve-sur-Lot“. Tolle Attraktionen und Mitmach-Angebote stehen an beiden Ta
 gen auf dem Programm.Wie jedes Jahr werden die Veranstaltungsorte in den b
 eiden Nachbarstädten während der Highlight-Tage vom 9. – 11. Mai wiede
 r mit dem kostenlosen Shuttlebus verbunden. Auch die gemeinsame Kombikarte
 \, mit der Besucher vergünstigt Eintritt zu allen Ausstellungen und Musee
 n\, zur Großen Sammlerbörse in Neustadt sowie zum Teddy- und Puppenfest 
 in Sonneberg erhalten\, wird wieder erhältlich sein.
DTEND;VALUE=DATE:20240513
DTSTART;VALUE=DATE:20240505
LAST-MODIFIED:20240425T123100Z
LOCATION:Neustadt und Sonneberg
SUMMARY:Internationales Puppenfestival
X-IMAGE:http://www.region-coburg.tv/images/medium/puppe-2020-876761dc.jpg
END:VEVENT
END:VCALENDAR
