BEGIN:VCALENDAR
METHOD:PUBLISH
PRODID:-//5899@www.region-coburg.tv//NONSGML iCalcreator 2.4.3//
VERSION:2.0
BEGIN:VEVENT
UID:5899-20250124143000-20250124163000@www.region-coburg.tv
DTSTAMP:20260423T153831Z
CONTACT:Eintritt frei!
CREATED:20240312T154400Z
DESCRIPTION:Spielenachmittag für SeniorenDie Teilnehmer erwartet eine Viel
 falt an Spielen\, einschließlich beliebter Klassiker wie Karten- und Bret
 tspiele.Gerne dürfen auch eigene Spiele mitgebracht werden.Das Team der M
 ediathek steht mit Rat und Tat zur Seite und hilft bei der Auswahl und der
  Erklärung der Spiele.Wir bitten um vorherige Anmeldung in der Mediathek 
 unter der Tel. Nr. 09568-81 136 oder per E-Mail unter mediathek@neustadt-b
 ei-coburg.de.Freuen Sie sich auf einen geselligen Nachmittag bei Kaffee od
 er Tee in netter Runde. - Tickets: Eintritt frei!
DTEND:20250124T163000
DTSTART:20250124T143000
LAST-MODIFIED:20240312T154400Z
LOCATION:Neustadt\, Mediathek
SUMMARY:Spielenachmittag für Senioren
X-IMAGE:http://www.region-coburg.tv/images/medium/csm-foto-spielenachmittag
 -04db7c65c1-c514c4a0.jpg
END:VEVENT
END:VCALENDAR
