BEGIN:VCALENDAR
METHOD:PUBLISH
PRODID:-//5669@www.region-coburg.tv//NONSGML iCalcreator 2.4.3//
VERSION:2.0
BEGIN:VEVENT
UID:5669-20250125130000-20250125000000@www.region-coburg.tv
DTSTAMP:20260423T153646Z
CONTACT:Ohne Gebühr!
CREATED:20231019T234900Z
DESCRIPTION:Geführte Wanderung: 'Rodacher Grenzland-Wanderung'(ca. 11 km)T
 reffpunkt: „Welcome Center“ am  Wohnmobilstellplatz „Thermenaue“
 Festes Schuhwerk erforderlich\; Dauer ca. 3\,5 Std. mit Rast (Vesper u. 
 Getränke empfohlen)\, Ohne Gebühr!Mindestteilnehmerzahl: 3 Personen - T
 ickets: Ohne Gebühr!
DTEND:20250125T000000
DTSTART:20250125T130000
LAST-MODIFIED:20231019T234900Z
LOCATION:Bad Rodach
SUMMARY:Rodacher Grenzland-Wanderung
X-IMAGE:http://www.region-coburg.tv/images/medium/wanderung-170aaa69.jpg
END:VEVENT
END:VCALENDAR
