BEGIN:VCALENDAR
METHOD:PUBLISH
PRODID:-//5658@www.region-coburg.tv//NONSGML iCalcreator 2.4.3//
VERSION:2.0
BEGIN:VEVENT
UID:5658-20241031000000-20241104000000@www.region-coburg.tv
DTSTAMP:20260419T175623Z
CREATED:20231018T224200Z
DESCRIPTION:Kirchweih Mittelwasungen
DTEND;VALUE=DATE:20241105
DTSTART;VALUE=DATE:20241031
LAST-MODIFIED:20231018T224200Z
LOCATION:Mittelwasungen
SUMMARY:Kirchweih Mittelwasungen
X-IMAGE:http://www.region-coburg.tv/images/medium/kirchweih-fuerth-am-berg-
 00b10a6e.jpg
END:VEVENT
END:VCALENDAR
