BEGIN:VCALENDAR
METHOD:PUBLISH
PRODID:-//5419@www.region-coburg.tv//NONSGML iCalcreator 2.4.3//
VERSION:2.0
BEGIN:VEVENT
UID:5419-20250201193000-20250201000000@www.region-coburg.tv
DTSTAMP:20260423T172251Z
CONTACT:Tel.: 0170 2317649
CREATED:20230612T163700Z
DESCRIPTION:Prunksitzung des Karnevalsverein Weidach e.V.Es erwartet euch e
 in unvergesslicher Abend mit tollen Tänzen\, Büttenreden und Vielem mehr
 .1. Prunksitzung: 01.02. 19:30 Uhr2. Prunksitzung: 08.02. 19:30 UhrIhr hab
 t noch keine Karte? Meldet euch telefonisch oder über unsere Social Medi
 a Kanäle.Einblicke von vergangenen Veranstaltungen findet ihr auf Instag
 ram und Facebook.Vergangenes Jahr war nectv zu Gast bei unserer 2. Prunk
 sitzung. Für einen Vorgeschmack\, könnt ihr gerne vorbeischauen: zum Bei
 trag - Tickets: Tel.: 0170 2317649
DTEND:20250201T000000
DTSTART:20250201T193000
LAST-MODIFIED:20230612T163700Z
LOCATION:Rudolf-Reißenweber-Turnhalle Weidach
SUMMARY:Prunksitzung
X-IMAGE:http://www.region-coburg.tv/images/medium/kvw-2-7df29d1a.jpg
END:VEVENT
END:VCALENDAR
