BEGIN:VCALENDAR
METHOD:PUBLISH
PRODID:-//5267@www.region-coburg.tv//NONSGML iCalcreator 2.4.3//
VERSION:2.0
BEGIN:VEVENT
UID:5267-20250130130000-20250130000000@www.region-coburg.tv
DTSTAMP:20260423T154156Z
CONTACT:Ohne GebÃ¼hr!
CREATED:20230314T104500Z
DESCRIPTION:GefÃ¼hrte Wanderung: 'Rodachlinde/Schweighofaue'(ca. 9 km)Treff
 punkt: â€žWelcome Centerâ€œ amÂ Â Wohnmobilstellplatz â€žThermenaueâ€œFest
 es Schuhwerk erforderlichDauer ca. 2 Â½ -3 Std.Â mit Rast (Vesper u. GetrÃ
 ¤nke empfohlen)Ohne GebÃ¼hrMindestteilnehmerzahl: 3 Personen. - Tickets: O
 hne GebÃ¼hr!
DTEND:20250130T000000
DTSTART:20250130T130000
LAST-MODIFIED:20230314T104500Z
LOCATION:Bad Rodach
SUMMARY:Rodachlinde/Schweighofaue
X-IMAGE:http://www.region-coburg.tv/images/medium/wanderung-170aaa69.jpg
END:VEVENT
END:VCALENDAR
