BEGIN:VCALENDAR
METHOD:PUBLISH
PRODID:-//5214@www.region-coburg.tv//NONSGML iCalcreator 2.4.3//
VERSION:2.0
BEGIN:VEVENT
UID:5214-20230301180000-20230301000000@www.region-coburg.tv
DTSTAMP:20260422T124805Z
CONTACT:4\,00 €
CREATED:20230214T120800Z
DESCRIPTION:'St. Moriz im Dunkeln erleben'KirchenbegegnungHeimatbotschafter
 in Anke Kroll lädt Sie zu einer meditativen Begegnung mit Coburgs ältest
 er Kirche\, St. Moriz\, ein. Erleben Sie die besondere Atmosphäre des du
 nklen Kirchenraums und genießen Sie die stimmungsvollen Abendstunden in a
 ller Ruhe. Treffpunkt: Haupteingang der KircheDauer: ca. 90 MinutenKoste
 n: 4\,00 € pro PersonWichtiger Hinweis: Eine Teilnahme ist nur unter vor
 heriger Anmeldung möglich! - Tickets: 4\,00 €
DTEND:20230301T000000
DTSTART:20230301T180000
LAST-MODIFIED:20230214T120800Z
LOCATION:Coburg\, Morizkirche
SUMMARY:St. Moriz im Dunkeln erleben
X-IMAGE:http://www.region-coburg.tv/images/medium/st-moriz-im-dunkeln-1ffcd
 c07.jpg
END:VEVENT
END:VCALENDAR
