BEGIN:VCALENDAR
METHOD:PUBLISH
PRODID:-//5211@www.region-coburg.tv//NONSGML iCalcreator 2.4.3//
VERSION:2.0
BEGIN:VEVENT
UID:5211-20230219143000-20230219000000@www.region-coburg.tv
DTSTAMP:20260422T125020Z
CONTACT:4\,00 € zzgl. Museumseintritt
CREATED:20230214T115500Z
DESCRIPTION:'Gläserne Emotionen'Themenführung für EinzelbesucherOb eine 
 Jacke voller harter Stacheln\, ein riesiger Würfel aus scharfblitzenden G
 lasscherben\, ein Wolf mit gefährlich scharfem „Fell“ – manche Kuns
 twerke lösen bei ihren Betrachtern Emotionen aus\, die sich mit Begriffen
  wie Angst\, Schutz\, Abwehr\, Kälte oder Gefahr in Verbindung bringen la
 ssen.Gästeführerin Nora Meixner beleuchtet in ihrer Führung die emotion
 ale Seite von Glaskunst und spürt mit den Teilnehmenden nach\, was für G
 efühle sie auslösen kann.Kosten: 4\,00 € zzgl. Museumseintritt - ohn
 e Anmeldung - Tickets: 4\,00 € zzgl. Museumseintritt
DTEND:20230219T000000
DTSTART:20230219T143000
LAST-MODIFIED:20230214T115500Z
LOCATION:Rödental\, Europäisches Museum für Modernes Glas
SUMMARY:Gläserne Emotionen
X-IMAGE:http://www.region-coburg.tv/images/medium/glaeserne-emotionen-7ba24
 86c.jpg
END:VEVENT
END:VCALENDAR
